BEGIN:VCALENDAR
VERSION:2.0
PRODID:-//Ortsgemeinde Sülm - ECPv6.15.20//NONSGML v1.0//EN
CALSCALE:GREGORIAN
METHOD:PUBLISH
X-WR-CALNAME:Ortsgemeinde Sülm
X-ORIGINAL-URL:https://suelm.de
X-WR-CALDESC:Veranstaltungen für Ortsgemeinde Sülm
REFRESH-INTERVAL;VALUE=DURATION:PT1H
X-Robots-Tag:noindex
X-PUBLISHED-TTL:PT1H
BEGIN:VTIMEZONE
TZID:Europe/Berlin
BEGIN:DAYLIGHT
TZOFFSETFROM:+0100
TZOFFSETTO:+0200
TZNAME:CEST
DTSTART:20230326T010000
END:DAYLIGHT
BEGIN:STANDARD
TZOFFSETFROM:+0200
TZOFFSETTO:+0100
TZNAME:CET
DTSTART:20231029T010000
END:STANDARD
BEGIN:DAYLIGHT
TZOFFSETFROM:+0100
TZOFFSETTO:+0200
TZNAME:CEST
DTSTART:20240331T010000
END:DAYLIGHT
BEGIN:STANDARD
TZOFFSETFROM:+0200
TZOFFSETTO:+0100
TZNAME:CET
DTSTART:20241027T010000
END:STANDARD
BEGIN:DAYLIGHT
TZOFFSETFROM:+0100
TZOFFSETTO:+0200
TZNAME:CEST
DTSTART:20250330T010000
END:DAYLIGHT
BEGIN:STANDARD
TZOFFSETFROM:+0200
TZOFFSETTO:+0100
TZNAME:CET
DTSTART:20251026T010000
END:STANDARD
END:VTIMEZONE
BEGIN:VEVENT
DTSTART;TZID=Europe/Berlin:20240225T160000
DTEND;TZID=Europe/Berlin:20240225T180000
DTSTAMP:20260420T102921
CREATED:20240217T213625Z
LAST-MODIFIED:20240217T213625Z
UID:3316-1708876800-1708884000@suelm.de
SUMMARY:Einweisung Umgang mit dem Defibrillator
DESCRIPTION:Um in einem Notfall helfen zu können\, bieten wir allen die Möglichkeit\, bei der Einweisung am Defibrillator teilzunehmen. \nWann: Sonntag\, 25. Februar 2024 ab 16:00 Uhr\nWo: Feuerwehrgerätehaus Sülm \nDie Teilnahme ist kostenlos. Sie können damit Leben retten – helfen\nSie mit! \nEuer Förderverein
URL:https://suelm.de/event/einweisung-umgang-mit-dem-defibrillator/
LOCATION:Feuerwehrhaus Sülm\, Scharfbilliger Straße\, Sülm\, Rheinland-Pfalz\, 54636
CATEGORIES:Allgemeine Veranstaltungen,Förderverein Sülm
END:VEVENT
BEGIN:VEVENT
DTSTART;TZID=Europe/Berlin:20240227T193000
DTEND;TZID=Europe/Berlin:20240227T210000
DTSTAMP:20260420T102921
CREATED:20240217T213440Z
LAST-MODIFIED:20240217T213440Z
UID:3314-1709062200-1709067600@suelm.de
SUMMARY:Jahreshauptversammlung
DESCRIPTION:Die diesjährige Jahreshauptversammlung des Fördervereins Sülm e.V.\nfindet am Dienstag\, 27. Februar 2024 um 19:30 Uhr im Jugendheim in\nSülm statt. \nDazu sind alle Mitglieder und Interessenten herzlich eingeladen. \nTagesordnung: \n\nBegrüßung\nBericht des 1. Vorsitzenden\nBericht der Schriftführerin\nBericht des Kassenwartes\nBericht der Kassenprüfer\nEntlastung des Kassenwartes sowie des Vorstandes\nVorstellung der Aktionen in 2024\nVerschiedenes\n\nAuf ein zahlreiches Erscheinen freut sich der Vorstand des Förderverein Sülm
URL:https://suelm.de/event/jahreshauptversammlung/
LOCATION:Pfarrjugendheim Sülm\, Hauptstraße 9\, Sülm\, Rheinland-Pfalz\, 54636\, Deutschland
CATEGORIES:Allgemeine Veranstaltungen,Förderverein Sülm
END:VEVENT
END:VCALENDAR